BEGIN:VCALENDAR
VERSION:2.0
CALSCALE:GREGORIAN
PRODID:adamgibbons/ics
METHOD:PUBLISH
X-PUBLISHED-TTL:PT1H
BEGIN:VEVENT
UID:147@agendamilitantloiret.emancipe.org
SUMMARY:vous êtes une personne transgenre ou en questionnement ? Parlons-en
DTSTAMP:20260423T141319Z
DTSTART:20260425T123000Z
DTEND:20260425T143000Z
URL:https://agendamilitantloiret.emancipe.org/event/vous-etes-une-personne-
	transgenre-ou-en-questionnement-parlons-en
GEO:47.9139399;1.9036757
LOCATION:GAGL45 - 15 rue de la bourie blanche\, Orléans
STATUS:CONFIRMED
CATEGORIES:LGBT,LGBTQ+,lgbtqia+,égalité,émancipation
END:VEVENT
END:VCALENDAR
