BEGIN:VCALENDAR
VERSION:2.0
CALSCALE:GREGORIAN
PRODID:adamgibbons/ics
METHOD:PUBLISH
X-PUBLISHED-TTL:PT1H
BEGIN:VEVENT
UID:141@agendamilitantloiret.emancipe.org
SUMMARY:RASSEMBLEMENT en mémoire d'Aboubakar Cissé
DTSTAMP:20260419T181314Z
DTSTART:20260425T150000Z
DTEND:20260425T160000Z
URL:https://agendamilitantloiret.emancipe.org/event/rassemblement-en-memoir
	e-daboubakar-cisse
LOCATION:Place de Gaulle - Orléans
STATUS:CONFIRMED
CATEGORIES:anti-racisme,justice
END:VEVENT
END:VCALENDAR
