BEGIN:VCALENDAR
VERSION:2.0
CALSCALE:GREGORIAN
PRODID:adamgibbons/ics
METHOD:PUBLISH
X-PUBLISHED-TTL:PT1H
BEGIN:VEVENT
UID:105@agendamilitantloiret.emancipe.org
SUMMARY:SALON des arts du jardin
DTSTAMP:20260419T134252Z
DTSTART:20260425T080000Z
DTEND:20260426T160000Z
URL:https://agendamilitantloiret.emancipe.org/event/salon-des-arts-du-jardi
	n
LOCATION:Parc Floral - avenue du Parc Floral\, Orléans
STATUS:CONFIRMED
CATEGORIES:culture,écologie
END:VEVENT
END:VCALENDAR
