BEGIN:VCALENDAR
VERSION:2.0
CALSCALE:GREGORIAN
PRODID:adamgibbons/ics
METHOD:PUBLISH
X-PUBLISHED-TTL:PT1H
BEGIN:VEVENT
UID:144@agendamilitantloiret.emancipe.org
SUMMARY:VISITE De ferme en ferme
DTSTAMP:20260419T163359Z
DTSTART:20260424T220000Z
DTEND:20260425T220000Z
DESCRIPTION:Créé il y a 30 ans\, De ferme en ferme® est un événement dédié 
	à l’Agriculture\nDurable qui se déroule chaque année le dernier week-end d
	'avril. \n\nPlus de 700 fermes engagées en agriculture durable ouvrent leu
	rs portes au grand\npublic le dernier week-end d'avril pour faire découvri
	r leurs savoir-faire et\nleurs activités. Visites pédagogiques\, animation
	s et dégustations gratuites...\n\nLes productrices et producteurs particip
	ants à "De ferme en ferme" s’engagent\ndans des pratiques agricoles durabl
	es et respectueuses des humains\, du bien-être\nanimal\, de l’environnemen
	t et du climat.\n\n"De ferme en ferme"\, un événement qui valorise une ali
	mentation de qualité en\ncircuits-courts\, pour le maintien d’une agricult
	ure de qualité inscrite dans son\nterritoire.\n\nLes producteurs ouvrent l
	eur portes au grand public pour partager leurs métiers\net leur engagement
	 en faveur d'une agriculture durable\n\nVOIR AUSSI LE PRINTEMPS DU BIO EN 
	JUIN
URL:https://agendamilitantloiret.emancipe.org/event/visite-de-ferme-en-ferm
	e
LOCATION:France - Tous les départements
STATUS:CONFIRMED
CATEGORIES:agriculture
X-ALT-DESC;FMTTYPE=text/html:<p><em>Créé il y a 30 ans,&nbsp;De ferme en fe
	rme® est un événement dédié à l’Agriculture Durable qui se déroule chaque 
	année le dernier week-end d'avril.&nbsp;</em></p><p><em>Plus de 700 fermes
	 engagées en agriculture durable ouvrent leurs portes au grand public le d
	ernier week-end d'avril pour faire découvrir leurs savoir-faire et leurs a
	ctivités. Visites pédagogiques, animations et dégustations gratuites...</e
	m></p><p>Les productrices et producteurs participants à "De ferme en ferme
	" s’engagent dans des pratiques agricoles durables et respectueuses des hu
	mains, du bien-être animal, de l’environnement et du climat.</p><p>"De fer
	me en ferme", un événement qui valorise une alimentation de qualité en cir
	cuits-courts, pour le maintien d’une agriculture de qualité inscrite dans 
	son territoire.</p><p>Les producteurs ouvrent leur portes au grand public 
	pour partager leurs métiers et leur engagement en faveur d'une agriculture
	 durable</p><p>VOIR AUSSI LE PRINTEMPS DU BIO EN JUIN</p>
BEGIN:VALARM
ACTION:DISPLAY
DESCRIPTION:VISITE De ferme en ferme
TRIGGER:-PT1H
END:VALARM
END:VEVENT
END:VCALENDAR
