BEGIN:VCALENDAR
VERSION:2.0
CALSCALE:GREGORIAN
PRODID:adamgibbons/ics
METHOD:PUBLISH
X-PUBLISHED-TTL:PT1H
BEGIN:VEVENT
UID:140@agendamilitantloiret.emancipe.org
SUMMARY:REUNION Parlement Citoyen
DTSTAMP:20260419T164718Z
DTSTART:20260430T170000Z
DTEND:20260430T190000Z
DESCRIPTION:La politique ne doit pas se faire sans vous. Venez échanger sur
	 la protection de\nl’Enfance\, la démocratie\, l’alimentation\, l’environn
	ement et le vivre-ensemble !\n\nLe Parlement Citoyen\, c’est : proposer - 
	débattre - agir\n\nOn vous attend !\n\nEmmanuel Duplessy
URL:https://agendamilitantloiret.emancipe.org/event/reunion-parlement-citoy
	en
LOCATION:salle Albert Camus - 4 place du Champ Saint Marc\, Orléans
STATUS:CONFIRMED
CATEGORIES:politique,démocratie
X-ALT-DESC;FMTTYPE=text/html:<p>La politique ne doit pas se faire sans vous
	. Venez échanger sur la protection de l’Enfance, la démocratie, l’alimenta
	tion, l’environnement et le vivre-ensemble !</p><p>Le Parlement Citoyen, c
	’est :  proposer -  débattre -  agir</p><p>On vous attend !</p><p>Emmanuel
	 Duplessy</p>
BEGIN:VALARM
ACTION:DISPLAY
DESCRIPTION:REUNION Parlement Citoyen
TRIGGER:-PT1H
END:VALARM
END:VEVENT
END:VCALENDAR
