BEGIN:VCALENDAR
VERSION:2.0
CALSCALE:GREGORIAN
PRODID:adamgibbons/ics
METHOD:PUBLISH
X-PUBLISHED-TTL:PT1H
BEGIN:VEVENT
UID:146@agendamilitantloiret.emancipe.org
SUMMARY:MANIFESTATION de soutien aux palestinien.nes
DTSTAMP:20260419T161801Z
DTSTART:20260425T130000Z
DTEND:20260425T140000Z
URL:https://agendamilitantloiret.emancipe.org/event/manifestation-de-soutie
	n-aux-palestiniennes
LOCATION:Place de Gaulle - Orléans
STATUS:CONFIRMED
CATEGORIES:politique,liberté,guerre
BEGIN:VALARM
ACTION:DISPLAY
DESCRIPTION:MANIFESTATION de soutien aux palestinien.nes
TRIGGER:-PT1H
END:VALARM
END:VEVENT
END:VCALENDAR
