BEGIN:VCALENDAR
VERSION:2.0
CALSCALE:GREGORIAN
PRODID:adamgibbons/ics
METHOD:PUBLISH
X-PUBLISHED-TTL:PT1H
BEGIN:VEVENT
UID:145@agendamilitantloiret.emancipe.org
SUMMARY:LALAA TOUR
DTSTAMP:20260419T163800Z
DTSTART:20260506T220000Z
DTEND:20260520T220000Z
DESCRIPTION:La Loire-Atlantique Alternative Tour : une itinérance à vélo en
	gagée pour\ndécouvrir le département autrement.\nLe principe ?\nUn parcour
	s accessible au plus grand nombre (peu de dénivelés et de distance\nparcou
	rue chaque jour)\nDes visites de lieux et de collectifs engagés\, solidair
	es et écologiques :\nagriculteur·ices\, paysan·nes\, écolieux\, habitats p
	artagés\, cafés associatifs …\nUne expérience collective pour se rencontre
	r et partager autour de repas\,\nd’ateliers\, de chantiers participatifs\,
	 de moments conviviaux et festifs\nUn hébergement sous tente chaque soir c
	hez nos accueillant·es\nUne organisation participative\, en autogestion et
	 sans voiture-balais\n\nagriculture biologique\, cantine militante\, ESS\,
	 habitat collectif\, élevage\,\nmaraîchage\, vins vivants
URL:https://agendamilitantloiret.emancipe.org/event/lalaa-tour
LOCATION:Loire-Atlantique - tout le département
STATUS:CONFIRMED
CATEGORIES:écologie,agriculture
X-ALT-DESC;FMTTYPE=text/html:<p>La Loire-Atlantique Alternative Tour : une 
	itinérance à vélo engagée pour découvrir le département autrement.<br>Le p
	rincipe ?<br>Un parcours accessible au plus grand nombre (peu de dénivelés
	 et de distance parcourue chaque jour)<br>Des visites de lieux et de colle
	ctifs engagés, solidaires et écologiques : agriculteur·ices, paysan·nes, é
	colieux, habitats partagés, cafés associatifs …<br>Une expérience collecti
	ve pour se rencontrer et partager autour de repas, d’ateliers, de chantier
	s participatifs, de moments conviviaux et festifs<br>Un hébergement sous t
	ente chaque soir chez nos accueillant·es<br>Une organisation participative
	, en autogestion et sans voiture-balais</p><p>agriculture biologique, cant
	ine militante, ESS, habitat collectif, élevage, maraîchage, vins vivants</
	p>
BEGIN:VALARM
ACTION:DISPLAY
DESCRIPTION:LALAA TOUR
TRIGGER:-PT1H
END:VALARM
END:VEVENT
END:VCALENDAR
