BEGIN:VCALENDAR
VERSION:2.0
CALSCALE:GREGORIAN
PRODID:adamgibbons/ics
METHOD:PUBLISH
X-PUBLISHED-TTL:PT1H
BEGIN:VEVENT
UID:142@agendamilitantloiret.emancipe.org
SUMMARY:BIENVENUE à la ferme
DTSTAMP:20260419T164013Z
DTSTART:20260418T220000Z
DTEND:20260418T220000Z
DESCRIPTION:【 BIENVENUE À LA FERME】Le Printemps à la ferme revient en Centr
	e-Val de Loire !\n\nDu 4 avril au 20 juin 2026\, le réseau Bienvenue à la 
	ferme vous ouvre les portes\nde ses exploitations pour une immersion uniqu
	e au cœur de l’agriculture\n\nPartez à la rencontre de nos agriculteurs\n\
	nPrès de 50 fermes de la région vous accueillent pour partager leur quotid
	ien\,\nleurs savoir-faire et leur passion. Une belle occasion de (re)décou
	vrir une\nagriculture moderne\, engagée et proche de vous\n\nVisites d’éle
	vages et de cultures\n\nDégustations de produits locaux (fromages\, vins\,
	 miel…)\n\nAnimations pour petits et grands : chasses aux œufs\, balades\,
	 ateliers\npédagogiques\n\nMarchés de producteurs\, repas champêtres et év
	énements festifs\n\nNos producteurs ont à cœur de partager leur savoir-fai
	re et créer du lien avec\nvous. Venez découvrir la ferme autrement et fair
	e le plein de souvenirs ! Une\ninvitation à créer du lien\, échanger\, com
	prendre et vivre des moments conviviaux\nen famille ou entre amis.\n\nDu 4
	 avril au 20 juin 2026 Partout en Centre-Val de Loire\n\nRetrouvez le prog
	ramme complet et préparez votre visite\n:https://www.bienvenue-a-la-ferme.
	com/centre\n[https://www.bienvenue-a-la-ferme.com/centre]\n\nVenez vivre u
	ne expérience authentique et sensorielle… vous êtes les bienvenus !\n\nRuc
	hers :\nhttps://www.larep.fr/fay-aux-loges-45450/loisirs/le-vrai-miel-il-f
	aut-le-trouver-alain-saulnier-aux-ruches-de-fay-presente-son-metier-d-apic
	ulteur-tout-en-alertant-sur-les-fraudeurs_14962427/\n[https://www.larep.fr
	/fay-aux-loges-45450/loisirs/le-vrai-miel-il-faut-le-trouver-alain-saulnie
	r-aux-ruches-de-fay-presente-son-metier-d-apiculteur-tout-en-alertant-sur-
	les-fraudeurs_14962427/]\n\nMiellerie\, vinaigrerie\, cidrerie :\nhttps://
	www.larep.fr/loury-45470/actualites/c-est-le-cote-passionnel-qui-m-interes
	se-le-cidriculteur-julien-thurel-ouvre-son-domaine-au-public-ce-week-end-a
	-loury_14962843/\n[https://www.larep.fr/loury-45470/actualites/c-est-le-co
	te-passionnel-qui-m-interesse-le-cidriculteur-julien-thurel-ouvre-son-doma
	ine-au-public-ce-week-end-a-loury_14962843/]
URL:https://agendamilitantloiret.emancipe.org/event/bienvenue-a-la-ferme
LOCATION:France - Tous les départements
STATUS:CONFIRMED
CATEGORIES:écologie,agriculture
X-ALT-DESC;FMTTYPE=text/html:<p>【 BIENVENUE À LA FERME】Le Printemps à la fe
	rme revient en Centre-Val de Loire !</p><p>Du 4 avril au 20 juin 2026, le 
	réseau Bienvenue à la ferme vous ouvre les portes de ses exploitations pou
	r une immersion unique au cœur de l’agriculture</p><p> Partez à la rencont
	re de nos agriculteurs</p><p>Près de 50 fermes de la région vous accueille
	nt pour partager leur quotidien, leurs savoir-faire et leur passion. Une b
	elle occasion de (re)découvrir une agriculture moderne, engagée et proche 
	de vous</p><p> Visites d’élevages et de cultures</p><p> Dégustations de pr
	oduits locaux (fromages, vins, miel…)</p><p> Animations pour petits et gra
	nds : chasses aux œufs, balades, ateliers pédagogiques</p><p> Marchés de p
	roducteurs, repas champêtres et événements festifs</p><p> Nos producteurs 
	ont à cœur de partager leur savoir-faire et créer du lien avec vous. Venez
	 découvrir la ferme autrement et faire le plein de souvenirs ! Une invitat
	ion à créer du lien, échanger, comprendre et vivre des moments conviviaux 
	en famille ou entre amis.</p><p> Du 4 avril au 20 juin 2026  Partout en Ce
	ntre-Val de Loire</p><p> Retrouvez le programme complet et préparez votre 
	visite :<a target="_blank" href="https://www.bienvenue-a-la-ferme.com/cent
	re">https://www.bienvenue-a-la-ferme.com/centre</a></p><p> Venez vivre une
	 expérience authentique et sensorielle… vous êtes les bienvenus !</p><p>Ru
	chers : <a target="_blank" href="https://www.larep.fr/fay-aux-loges-45450/
	loisirs/le-vrai-miel-il-faut-le-trouver-alain-saulnier-aux-ruches-de-fay-p
	resente-son-metier-d-apiculteur-tout-en-alertant-sur-les-fraudeurs_1496242
	7/">https://www.larep.fr/fay-aux-loges-45450/loisirs/le-vrai-miel-il-faut-
	le-trouver-alain-saulnier-aux-ruches-de-fay-presente-son-metier-d-apiculte
	ur-tout-en-alertant-sur-les-fraudeurs_14962427/</a></p><p>Miellerie, vinai
	grerie, cidrerie : <a target="_blank" href="https://www.larep.fr/loury-454
	70/actualites/c-est-le-cote-passionnel-qui-m-interesse-le-cidriculteur-jul
	ien-thurel-ouvre-son-domaine-au-public-ce-week-end-a-loury_14962843/">http
	s://www.larep.fr/loury-45470/actualites/c-est-le-cote-passionnel-qui-m-int
	eresse-le-cidriculteur-julien-thurel-ouvre-son-domaine-au-public-ce-week-e
	nd-a-loury_14962843/</a></p>
BEGIN:VALARM
ACTION:DISPLAY
DESCRIPTION:BIENVENUE à la ferme
TRIGGER:-PT1H
END:VALARM
END:VEVENT
END:VCALENDAR
