BEGIN:VCALENDAR
VERSION:2.0
CALSCALE:GREGORIAN
PRODID:adamgibbons/ics
METHOD:PUBLISH
X-PUBLISHED-TTL:PT1H
BEGIN:VEVENT
UID:143@agendamilitantloiret.emancipe.org
SUMMARY:BIENVENUE à la ferme
DTSTAMP:20260419T165447Z
DTSTART:20260403T220000Z
DTEND:20260619T220000Z
DESCRIPTION:【 BIENVENUE À LA FERME】Le Printemps à la ferme revient en Centr
	e-Val de Loire !\n\nDu 4 avril au 20 juin 2026\, le réseau Bienvenue à la 
	ferme vous ouvre les portes\nde ses exploitations pour une immersion uniqu
	e au cœur de l’agriculture\n\nPartez à la rencontre de nos agriculteurs\n\
	nPrès de 50 fermes de la région vous accueillent pour partager leur quotid
	ien\,\nleurs savoir-faire et leur passion. Une belle occasion de (re)décou
	vrir une\nagriculture moderne\, engagée et proche de vous. Au programme :\
	n\nVisites d’élevages et de cultures\n\nDégustations de produits locaux (f
	romages\, vins\, miel…)\n\nAnimations pour petits et grands : chasses aux 
	œufs\, balades\, ateliers\npédagogiques\n\nMarchés de producteurs\, repas 
	champêtres et événements festifs\n\nNos producteurs ont à cœur de partager
	 leur savoir-faire et créer du lien avec\nvous. Venez découvrir la ferme a
	utrement et faire le plein de souvenirs ! Une\ninvitation à créer du lien\
	, échanger\, comprendre et vivre des moments conviviaux\nen famille ou ent
	re amis.\n\nRetrouvez le programme complet et préparez votre visite :\nhtt
	ps://www.bienvenue-a-la-ferme.com/centre\n[https://www.bienvenue-a-la-ferm
	e.com/centre]\n\nVenez vivre une expérience authentique et sensorielle… vo
	us êtes les bienvenus !
URL:https://agendamilitantloiret.emancipe.org/event/bienvenue-a-la-ferme-1
LOCATION:France - Tous les départements
STATUS:CONFIRMED
CATEGORIES:écologie,agriculture
X-ALT-DESC;FMTTYPE=text/html:<p>【 BIENVENUE À LA FERME】Le Printemps à la fe
	rme revient en Centre-Val de Loire !</p><p>Du 4 avril au 20 juin 2026, le 
	réseau Bienvenue à la ferme vous ouvre les portes de ses exploitations pou
	r une immersion unique au cœur de l’agriculture</p><p> Partez à la rencont
	re de nos agriculteurs</p><p>Près de 50 fermes de la région vous accueille
	nt pour partager leur quotidien, leurs savoir-faire et leur passion. Une b
	elle occasion de (re)découvrir une agriculture moderne, engagée et proche 
	de vous.  Au programme :</p><p> Visites d’élevages et de cultures</p><p> D
	égustations de produits locaux (fromages, vins, miel…)</p><p> Animations p
	our petits et grands : chasses aux œufs, balades, ateliers pédagogiques</p
	><p> Marchés de producteurs, repas champêtres et événements festifs</p><p>
	 Nos producteurs ont à cœur de partager leur savoir-faire et créer du lien
	 avec vous. Venez découvrir la ferme autrement et faire le plein de souven
	irs ! Une invitation à créer du lien, échanger, comprendre et vivre des mo
	ments conviviaux en famille ou entre amis.</p><p>Retrouvez le programme co
	mplet et préparez votre visite : <a target="_blank" href="https://www.bien
	venue-a-la-ferme.com/centre">https://www.bienvenue-a-la-ferme.com/centre</
	a></p><p> Venez vivre une expérience authentique et sensorielle… vous êtes
	 les bienvenus !</p>
BEGIN:VALARM
ACTION:DISPLAY
DESCRIPTION:BIENVENUE à la ferme
TRIGGER:-PT1H
END:VALARM
END:VEVENT
END:VCALENDAR
